BEGIN:VCALENDAR
VERSION:2.0
PRODID:-//wp-events-plugin.com//7.2.3.1//EN
TZID:Europe/London
X-WR-TIMEZONE:Europe/London
BEGIN:VEVENT
UID:210@each.international
DTSTART;TZID=Europe/London:20250915T090000
DTEND;TZID=Europe/London:20250916T160000
DTSTAMP:20250527T084913Z
URL:https://each.international/fr/calendar/global-empathy-in-healthcare-ne
 twork-symposium-2025-rehumanising-healthcare-in-a-divided-world/
SUMMARY:Global Empathy in Healthcare Network Symposium 2025: ‘Rehumanisin
 g Healthcare in a Divided World’
DESCRIPTION:The Global Empathy in Healthcare Network Symposium: ‘Rehumani
 sing Healthcare in a Divided World’ is open to healthcare professionals\
 , researchers\, educators\, and advocates from around the world.\nProf. Go
 zie Offiah - President elect of EACH will be presenting a plenary session 
 on Cutting Through the Myth: Surgeons lack empathy!\n\nProf. Sandra Winter
 burn and other members of EACH will be presenting a masterclass on Cultiv
 ating Empathy in the Classroom: Developing a teaching toolbox for compassi
 onate clinicians\n\nBookings close 1 August\nWith members from the UK\, US
 \, Australia\, Brazil\, Nigeria\, and beyond\, the network is a truly glob
 al organisation united in its commitment to restoring empathy and human co
 nnection in healthcare.\nIn today’s increasingly digital and fragmented 
 healthcare systems\, empathy is more crucial than ever.\nThis symposium 
 – delivered in association with EACH – will bring together thought lea
 ders\, practitioners\, and innovators to examine how we can rehumanise car
 e in an era of technological advancements\, remote interactions\, and risi
 ng healthcare divides.\nThrough keynote presentations\, workshops\, and co
 llaborative discussions\, attendees will explore practical strategies for 
 integrating empathy into digital platforms\, overcoming barriers to human 
 connection\, and addressing the challenges posed by an often impersonal\, 
 tech-driven healthcare environment.\nThis event offers a unique opportunit
 y to connect with global experts\, share insights\, and learn actionable s
 olutions for fostering compassionate\, patient-centred care in a digital w
 orld.\nWHEN: 15-16 September 2025\nWHERE: Sir Bob Burgess Building\, Freem
 en’s Common\, Leicester\, LE2 7TF\nFull information and booking details 
 here www.global-empathy-in-healthcare.com\n\n&nbsp\;
CATEGORIES:EACH Conference
END:VEVENT
BEGIN:VTIMEZONE
TZID:Europe/London
X-LIC-LOCATION:Europe/London
BEGIN:DAYLIGHT
DTSTART:20250330T020000
TZOFFSETFROM:+0000
TZOFFSETTO:+0100
TZNAME:BST
END:DAYLIGHT
END:VTIMEZONE
END:VCALENDAR