BEGIN:VCALENDAR
VERSION:2.0
PRODID:-//wp-events-plugin.com//7.2.3.1//EN
TZID:Europe/London
X-WR-TIMEZONE:Europe/London
BEGIN:VEVENT
UID:206@each.international
DTSTART;TZID=Europe/London:20250409T120000
DTEND;TZID=Europe/London:20250409T130000
DTSTAMP:20250319T162658Z
URL:https://each.international/es/calendar/nursing-sig-learning-salon-podc
 asts-untapped-educational-resources-for-nurses-communication-praxis/
SUMMARY:Nursing SIG Learning Salon - Podcasts: Untapped educational resourc
 es for nurses’ communication praxis
DESCRIPTION:Presenter: Patricia H. Strachan RN PhD\n\nHost of Radical Nurse
  Talk\, a podcast that explores nurses’ communication in serious situati
 ons and illness as a radical act of care.\n\nIn this learning salon\, podc
 asts will be introduced as an educational resource for nurses in basic and
  continuing education. Based on her experience as host of Radical Nurse Ta
 lk (radicalnursetalk.com) and as a nurse educator\, the possibilities for 
 podcasts to engage learners and foster communication skills will be discus
 sed. To those new to the world of podcasts\, this is a great time to learn
  about a growing world-wide media trend that can be freely accessed anytim
 e or place and that may hold appeal to learners\, both novice and experien
 ced.\n\n&nbsp\;
CATEGORIES:EACH Course,Webinar
END:VEVENT
BEGIN:VTIMEZONE
TZID:Europe/London
X-LIC-LOCATION:Europe/London
BEGIN:DAYLIGHT
DTSTART:20250330T020000
TZOFFSETFROM:+0000
TZOFFSETTO:+0100
TZNAME:BST
END:DAYLIGHT
END:VTIMEZONE
END:VCALENDAR