BEGIN:VCALENDAR
VERSION:2.0
PRODID:-//wp-events-plugin.com//7.2.3.1//EN
TZID:Europe/London
X-WR-TIMEZONE:Europe/London
BEGIN:VEVENT
UID:213@each.international
DTSTART;TZID=Europe/London:20250915T150000
DTEND;TZID=Europe/London:20250915T170000
DTSTAMP:20250805T113623Z
URL:https://each.international/es/calendar/launching-the-sig-on-large-scal
 e-communication-skills-interventions-overview-open-forum/
SUMMARY:Launching the SIG on Large-Scale Communication Skills Interventions
 : Overview & Open Forum
DESCRIPTION:This webinar is open to anyone who is interested in large scale
  communication skills interventions regardless of their experience with it
  and whether they are looking to build a program or sustain &amp\; expand 
 an existing one. \n\nYou can help shape the work of this SIG!\n\nTo regist
 er for this free webinar visit https://fitwise.eventsair.com/launchingsigo
 nlargescalecommskillsinterventions/delreg\n\n
CATEGORIES:Webinar
END:VEVENT
BEGIN:VTIMEZONE
TZID:Europe/London
X-LIC-LOCATION:Europe/London
BEGIN:DAYLIGHT
DTSTART:20250330T020000
TZOFFSETFROM:+0000
TZOFFSETTO:+0100
TZNAME:BST
END:DAYLIGHT
END:VTIMEZONE
END:VCALENDAR