BEGIN:VCALENDAR
VERSION:2.0
PRODID:-//wp-events-plugin.com//7.2.3.1//EN
TZID:Europe/London
X-WR-TIMEZONE:Europe/London
BEGIN:VEVENT
UID:154@each.international
DTSTART;TZID=Europe/London:20240909T080000
DTEND;TZID=Europe/London:20240913T170000
DTSTAMP:20231101T161845Z
URL:https://each.international/es/calendar/international-conference-on-com
 munication-in-healthcare-2024/
SUMMARY:International Conference on Communication in Healthcare 2024
DESCRIPTION:Please click here for further information.
CATEGORIES:EACH Conference
END:VEVENT
BEGIN:VTIMEZONE
TZID:Europe/London
X-LIC-LOCATION:Europe/London
BEGIN:DAYLIGHT
DTSTART:20240331T020000
TZOFFSETFROM:+0000
TZOFFSETTO:+0100
TZNAME:BST
END:DAYLIGHT
END:VTIMEZONE
END:VCALENDAR