BEGIN:VCALENDAR
VERSION:2.0
PRODID:-//wp-events-plugin.com//7.2.3.1//EN
TZID:Europe/London
X-WR-TIMEZONE:Europe/London
BEGIN:VEVENT
UID:177@each.international
DTSTART;TZID=Europe/London:20240723T140000
DTEND;TZID=Europe/London:20240723T150000
DTSTAMP:20240703T113806Z
URL:https://each.international/es/calendar/austria/
SUMMARY:WHO Europe and EACH - experiences from implementing a national stra
 tegy for improving healthcare communication in Austria using a train the t
 rainer’s model.
DESCRIPTION:In the third Webinar of our joint webinar series on trust and c
 ommunication we will be interviewing Marlene Sator (Senior Health Expert
 \, Austrian Public Health Institute\, WHO-Collaborating Centre for Health 
 Promotion in Hospitals and Healthcare) who will be discussing experiences 
 from implementing a national strategy for improving healthcare communicati
 on in Austria using a train the trainer’s model. Register here\n\n&nbsp
 \;\n\nTime shown is BST = 3.00pm CEST
CATEGORIES:EACH Course
END:VEVENT
BEGIN:VTIMEZONE
TZID:Europe/London
X-LIC-LOCATION:Europe/London
BEGIN:DAYLIGHT
DTSTART:20240331T020000
TZOFFSETFROM:+0000
TZOFFSETTO:+0100
TZNAME:BST
END:DAYLIGHT
END:VTIMEZONE
END:VCALENDAR