BEGIN:VCALENDAR
VERSION:2.0
PRODID:-//wp-events-plugin.com//7.2.3.1//EN
TZID:Europe/London
X-WR-TIMEZONE:Europe/London
BEGIN:VEVENT
UID:187@each.international
DTSTART;TZID=Europe/London:20250217T150000
DTEND;TZID=Europe/London:20250217T183000
DTSTAMP:20241113T150424Z
URL:https://each.international/de/calendar/what-to-teach-in-communication-
 skills-teaching-skills-and-structure-workshop-2-2/
SUMMARY:What to Teach in Communication Skills Teaching: Skills and Structur
 e - Workshop 2
DESCRIPTION:We are delighted to announce a two-module online course focusin
 g on "What to teach" in communication skills teaching.  The course is dir
 ected towards teachers of health professionals (for example teachers of st
 udents and clinicians in medicine\, nursing\, physiotherapy\, etc.)  who 
 wish to explore the foundational skills and structure of health care inte
 ractions.\n\nThis is a shorter online version of our two-day annual ‘Wha
 t to teach’ course that will focus on the basic core clinical communicat
 ion skills rather than specific communication challenges. The primary focu
 s of this course will be on the structure and skills of healthcare communi
 cation. The course will look at the various models in use to conceptualise
  health care communication and analyse communication skills in observed en
 counters with patients. This will help participants:\n\n 	clarify what the
 y are trying to teach\n 	define the individual specific skills of effectiv
 e clinical communication\n 	break down the complex task of the interview i
 nto its individual components\n\nWe will explore communication skills by o
 bserving prepared videos and work in small groups/break out rooms.\n\nThe 
 online course will be facilitated by experienced teachers from tEACH\, the
  teaching committee of EACH: International Association of Communication in
  Healthcare. The proceedings will be held in English and as much as possib
 le will accommodate participants for whom English is not their first langu
 age.\n\nPlease note\, this course is not about online facilitation skill
 s but rather the content of what should be included in any communication t
 eaching sessions\n\nWorkshop 1 - 3rd February 2025\, 3pm - 6.30pm GMT\n\nW
 orkshop 2 - 17th February 2025\, 3pm - 6.30pm GMT\n\nFacilitators\n\nJane 
 Ege Møller.\nAarhus University\, Denmark\n\n\nJane is Associate Professor
  at Department of Clinical Medicine\, Aarhus University in Denmark and the
  Academic Lead of the clinical communication skills courses for residents 
 in Central Denmark Region. She is currently the co-chair of tEACH\, the te
 aching committee of EACH. She has more than 15 years of experience as a r
 esearcher and teacher in the field of clinical communication and medical e
 ducation.\n\n&nbsp\;\n\nAnna Sonkin\nSchool for Medical Communication\n\n\
 nAnna is a paediatrician\, palliative care physician\, and medical educato
 r currently based in USA. Before 2022\, she had been practicing and teachi
 ng in Moscow\, Russia\, where she established a private company for teachi
 ng communication skills to healthcare professionals. She is now based in N
 ew York City and continues to teach and supervise online while working in 
 Global Health to advance childhood cancer care. A member of the Teaching C
 ommittee of EACH\, she is particularly interested in communication structu
 re and experiential teaching.\n\n&nbsp\;\n\nMember price £250\n\nNon memb
 er price £285\n\nThe time shown is in GMT\n\nBooking details available so
 on
CATEGORIES:EACH Course
END:VEVENT
BEGIN:VTIMEZONE
TZID:Europe/London
X-LIC-LOCATION:Europe/London
BEGIN:STANDARD
DTSTART:20241027T010000
TZOFFSETFROM:+0100
TZOFFSETTO:+0000
TZNAME:GMT
END:STANDARD
END:VTIMEZONE
END:VCALENDAR