BEGIN:VCALENDAR
VERSION:2.0
PRODID:-//wp-events-plugin.com//7.2.3.1//EN
TZID:Europe/London
X-WR-TIMEZONE:Europe/London
BEGIN:VEVENT
UID:181@each.international
DTSTART;TZID=Europe/London:20240911T164500
DTEND;TZID=Europe/London:20240911T174500
DTSTAMP:20240903T124606Z
URL:https://each.international/de/calendar/each-annual-general-meeting-2/
SUMMARY:EACH Annual General Meeting
DESCRIPTION:All EACH members attending ICCH are encouraged to participate i
 n this annual meeting that will include the election of the new President-
 elect\, Treasurer and members of the Advisory Committee\, updates and oppo
 rtunities for discussion of EACH activities and future planning.   Pleas
 e make every effort to attend because we need to ensure a quorum of 5% of 
 EACH members to fulfil the requirements of being a registered charity.\n\n
 This meeting will take place in the main auditorium.\n\nThe papers can be 
 viewed and downloaded on the EACH buddy drive\n\nYou will need to be logge
 d into the website to view
CATEGORIES:EACH Course,Member
END:VEVENT
BEGIN:VTIMEZONE
TZID:Europe/London
X-LIC-LOCATION:Europe/London
BEGIN:DAYLIGHT
DTSTART:20240331T020000
TZOFFSETFROM:+0000
TZOFFSETTO:+0100
TZNAME:BST
END:DAYLIGHT
END:VTIMEZONE
END:VCALENDAR