BEGIN:VCALENDAR
VERSION:2.0
PRODID:-//wp-events-plugin.com//7.2.3.1//EN
TZID:Europe/London
X-WR-TIMEZONE:Europe/London
BEGIN:VEVENT
UID:218@each.international
DTSTART;TZID=Europe/London:20250924T110000
DTEND;TZID=Europe/London:20250924T120000
DTSTAMP:20250917T075909Z
URL:https://each.international/da/calendar/nursing-sig-webinar-ethnic-dive
 rsity-in-nursing-education-and-practice/
SUMMARY:Nursing SIG Webinar - Ethnic Diversity in Nursing Education and Pra
 ctice
DESCRIPTION:In many countries nursing is a profession where a variety of et
 hnicities are represented. We see nurses travel for employment and better 
 work conditions and in nursing education we experience a diversity of back
 grounds in the classroom. \n\nAs we experience a wider diversity among pat
 ients in our healthcare system this tendency is positive. Ethnic inequalit
 y in health is a proven fact and a wider diversity among healthcare profes
 sionals can make a difference on an individual and an institutional level 
 when patients with different background meet the healthcare system to get 
 help.\nA research project was conducted in a Danish program for nursing an
 d midwifery education. The project was aimed at describing barriers and op
 portunities for ethnic minority students to succeed in nursing and midwife
 ry education.\nThe results from the project will be presented and we will 
 try to start a discussion on ethnic diversity in nursing education and pra
 ctice in different parts of the world with focus on how ethnic diversity i
 s represented in nursing and midwifery and the effect on patient communica
 tion and patient care.\nPresenter: Annegrethe Nielsen\, nursing school lec
 turer\, University College Copenhagen\, Denmark\n\nTo attend this webinar 
 and for more information\, contact: agni@kp.dk 
CATEGORIES:Webinar
END:VEVENT
BEGIN:VTIMEZONE
TZID:Europe/London
X-LIC-LOCATION:Europe/London
BEGIN:DAYLIGHT
DTSTART:20250330T020000
TZOFFSETFROM:+0000
TZOFFSETTO:+0100
TZNAME:BST
END:DAYLIGHT
END:VTIMEZONE
END:VCALENDAR