BEGIN:VCALENDAR
VERSION:2.0
PRODID:-//wp-events-plugin.com//7.2.3.1//EN
TZID:Europe/London
X-WR-TIMEZONE:Europe/London
BEGIN:VEVENT
UID:207@each.international
DTSTART;TZID=Europe/London;VALUE=DATE:20251005
DTEND;TZID=Europe/London;VALUE=DATE:20251009
DTSTAMP:20250320T124624Z
URL:https://each.international/da/calendar/icch-2025/
SUMMARY:ICCH 2025
DESCRIPTION:ICCH 2025 is organised by ACH\n\nThe event will take place in O
 ttawa\, Canada from the 5th - 8th October\n\nPlease visit the website to f
 ind out more\n\n&nbsp\;
CATEGORIES:EACH Conference,EACH Course
END:VEVENT
BEGIN:VTIMEZONE
TZID:Europe/London
X-LIC-LOCATION:Europe/London
BEGIN:DAYLIGHT
DTSTART:20250330T020000
TZOFFSETFROM:+0000
TZOFFSETTO:+0100
TZNAME:BST
END:DAYLIGHT
END:VTIMEZONE
END:VCALENDAR