BEGIN:VCALENDAR
VERSION:2.0
PRODID:-//wp-events-plugin.com//7.2.3.1//EN
TZID:Europe/London
X-WR-TIMEZONE:Europe/London
BEGIN:VEVENT
UID:190@each.international
DTSTART;TZID=Europe/London:20241030T140000
DTEND;TZID=Europe/London:20241030T150000
DTSTAMP:20241021T123142Z
URL:https://each.international/calendar/sig-webinar-improv-in-health-profe
 ssions-education-from-small-steps-to-big-impact-lessons-learned-from-build
 ing-healthcare-improv-programs/
SUMMARY:SIG webinar - Improv in Health Professions Education: From Small St
 eps to Big Impact: Lessons Learned from Building Healthcare Improv Program
 s
DESCRIPTION:Improv in Health Professions Education: From Small Steps to Big
  Impact: Lessons Learned from Building Healthcare Improv Programs\n\n&nbsp
 \;\n\n&nbsp\;\n\nPresenters:\n\nElizabeth Weinstein\, MD Professor of Clin
 ical Emergency Medicine and Pediatrics\, Indiana University School of Medi
 cine\n\n&nbsp\;\n\n&nbsp\;\n\n&nbsp\;\n\nKrista Longtin\, PhD Associate Pr
 ofessor\, Obstetrics &amp\; Gynecology\, Assistant Dean\, Faculty Affairs 
 and Professional Development\, Associate Professor\, Communication Studies
 \, Indiana University School of Medicine\n\n&nbsp\;\n\n&nbsp\;\n\nTime sho
 wn is GMT\n\nEastern time 10-11\, CET 3-4pm\, Central time 9-10
CATEGORIES:EACH Conference,EACH Course,Meeting
END:VEVENT
BEGIN:VTIMEZONE
TZID:Europe/London
X-LIC-LOCATION:Europe/London
BEGIN:STANDARD
DTSTART:20241027T010000
TZOFFSETFROM:+0100
TZOFFSETTO:+0000
TZNAME:GMT
END:STANDARD
END:VTIMEZONE
END:VCALENDAR