BEGIN:VCALENDAR
VERSION:2.0
PRODID:-//wp-events-plugin.com//7.2.3.1//EN
TZID:Europe/London
X-WR-TIMEZONE:Europe/London
BEGIN:VEVENT
UID:198@each.international
DTSTART;TZID=Europe/London:20241119T140000
DTEND;TZID=Europe/London:20241119T153000
DTSTAMP:20241111T111903Z
URL:https://each.international/calendar/21846/
SUMMARY:Effective communication in health care
DESCRIPTION:This last session in our Effective communication in health care
  series will bring together all our previous presenters to summarize their
  learnings\, discuss policy implications\, and explore the role of innovat
 ions in fostering trust through enhanced communication.\n\nThe nine intern
 ational speakers participating will be:\n\n 	Meg Chiswell and Peter Martin
  (Deakin University\, Australia)\n 	John Schlömer and Marlene Sator (Publ
 ic Health Institute\, Austria)\n 	Jette Ammentorp (Odense University Hospi
 tal\, Denmark)\n 	Winifred Ryan (Health Service Executive\, Ireland)\n 	Ev
 a Doherty (Royal College of Surgeons of Ireland)\n 	Marcy Rosenbaum and Th
 eresa Brennan (University of Iowa\, United States of America)\n\nTheir ins
 ights promise to be both informative and inspiring\, providing valuable le
 ssons on enhancing communication within healthcare settings.\n\nAbout the 
 Effective communication in healthcare webinar series\n\nThis webinar serie
 s is organized by WHO/Europe\, the WHO Collaborating Centre for Health Pro
 motion in Hospitals and Healthcare at the Austrian National Public Health 
 Institute\, the International Association for Communication in Healthcare 
 (EACH)\, and the University of Iowa (United States of America).\n\nEach we
 binar examines the critical role of effective communication in building tr
 ust within health-care settings\, and the challenges health-care professio
 nals face in effectively communicating with each other and patients.\n\nTh
 e series also aims to inform future WHO guidance and recommendations on es
 tablishing national communication skills training programmes in hospitals\
 , drawing on insights and lessons from programmes in various countries.\n\
 nTime shown is UK GMT\, 3-4.30 CET\n\n&nbsp\;
ATTACH;FMTTYPE=image/jpeg:https://each.international/wp-content/uploads/20
 24/11/Picture1.png
CATEGORIES:EACH Course
END:VEVENT
BEGIN:VTIMEZONE
TZID:Europe/London
X-LIC-LOCATION:Europe/London
BEGIN:STANDARD
DTSTART:20241027T010000
TZOFFSETFROM:+0100
TZOFFSETTO:+0000
TZNAME:GMT
END:STANDARD
END:VTIMEZONE
END:VCALENDAR