BEGIN:VCALENDAR
VERSION:2.0
PRODID:-//wp-events-plugin.com//7.2.3.1//EN
TZID:Europe/London
X-WR-TIMEZONE:Europe/London
BEGIN:VEVENT
UID:168@each.international
DTSTART;TZID=Europe/Dublin;VALUE=DATE:20240925
DTEND;TZID=Europe/Dublin;VALUE=DATE:20240929
DTSTAMP:20240215T134310Z
URL:https://each.international/ar/calendar/wonca-europe/
SUMMARY:WONCA Europe
DESCRIPTION:Click here for more information
CATEGORIES:EACH Conference
END:VEVENT
BEGIN:VTIMEZONE
TZID:Europe/Dublin
X-LIC-LOCATION:Europe/Dublin
BEGIN:STANDARD
DTSTART:20240331T020000
TZOFFSETFROM:+0000
TZOFFSETTO:+0100
TZNAME:IST
END:STANDARD
END:VTIMEZONE
END:VCALENDAR