BEGIN:VCALENDAR
VERSION:2.0
PRODID:-//wp-events-plugin.com//7.2.3.1//EN
TZID:Europe/London
X-WR-TIMEZONE:Europe/London
BEGIN:VEVENT
UID:72@each.international
DTSTART;TZID=Europe/London:20220527T150000
DTEND;TZID=Europe/London:20220527T160000
DTSTAMP:20220510T155453Z
URL:https://each.international/ar/calendar/reach-connectivity-webinar-heal
 th-professionals-as-influencers-challenges-in-the-development-of-a-code-of
 -conduct/
SUMMARY:rEACH connectivity webinar - Health professionals as influencers? C
 hallenges in the development of a code of conduct.
DESCRIPTION:rEACH connectivity webinar\n\nHealth professionals as influence
 rs? Challenges in the development of a code of conduct.\n\nFacilitator \n
 \nSara Rubinelli\nDepartment of Health Sciences and Medicine\nUniversity o
 f Lucerne\, Switzerland\n\nBy relying on examples from COVID_19 infodemics
 \, this webinar discusses the case of health professionals who became or a
 spire to become influencers on the social networks. Health professionals c
 an be very persuasive in communicating about topics within their expertise
 . However\, the pandemic has shown that a code of conduct would help deali
 ng with cases where mis-disinformation spread because of health profession
 als’ proclaims.
CATEGORIES:EACH Course,Member
END:VEVENT
BEGIN:VTIMEZONE
TZID:Europe/London
X-LIC-LOCATION:Europe/London
BEGIN:DAYLIGHT
DTSTART:20220327T020000
TZOFFSETFROM:+0000
TZOFFSETTO:+0100
TZNAME:BST
END:DAYLIGHT
END:VTIMEZONE
END:VCALENDAR